BEGIN:VCALENDAR
VERSION:2.0
PRODID:-//Bundesverband Lebensrecht - ECPv6.15.20//NONSGML v1.0//EN
CALSCALE:GREGORIAN
METHOD:PUBLISH
X-ORIGINAL-URL:https://bundesverband-lebensrecht.de
X-WR-CALDESC:Veranstaltungen für Bundesverband Lebensrecht
REFRESH-INTERVAL;VALUE=DURATION:PT1H
X-Robots-Tag:noindex
X-PUBLISHED-TTL:PT1H
BEGIN:VTIMEZONE
TZID:Europe/Paris
BEGIN:DAYLIGHT
TZOFFSETFROM:+0100
TZOFFSETTO:+0200
TZNAME:CEST
DTSTART:20250330T010000
END:DAYLIGHT
BEGIN:STANDARD
TZOFFSETFROM:+0200
TZOFFSETTO:+0100
TZNAME:CET
DTSTART:20251026T010000
END:STANDARD
BEGIN:DAYLIGHT
TZOFFSETFROM:+0100
TZOFFSETTO:+0200
TZNAME:CEST
DTSTART:20260329T010000
END:DAYLIGHT
BEGIN:STANDARD
TZOFFSETFROM:+0200
TZOFFSETTO:+0100
TZNAME:CET
DTSTART:20261025T010000
END:STANDARD
BEGIN:DAYLIGHT
TZOFFSETFROM:+0100
TZOFFSETTO:+0200
TZNAME:CEST
DTSTART:20270328T010000
END:DAYLIGHT
BEGIN:STANDARD
TZOFFSETFROM:+0200
TZOFFSETTO:+0100
TZNAME:CET
DTSTART:20271031T010000
END:STANDARD
END:VTIMEZONE
BEGIN:VEVENT
DTSTART;TZID=Europe/Paris:20260612T123000
DTEND;TZID=Europe/Paris:20260612T180000
DTSTAMP:20260424T182520
CREATED:20260421T142654Z
LAST-MODIFIED:20260424T072427Z
UID:7868-1781267400-1781287200@bundesverband-lebensrecht.de
SUMMARY:Aktuelle Fragen der Organtransplantation - Jahrestagung der Juristen-Vereinigung Lebensrecht am 12. Juni 2026
DESCRIPTION:PDF-Einladung zur Jahrestagung der JVL am 12. Juni 2026 \n\nHerzlich laden wir ein zur Jahrestagung der Juristen-Vereinigung Lebensrecht am \nFreitag\, den 12. Juni 2026\nvon 12.30 Uhr bis ca. 18 Uhr \nin Berlin\, martas Gästehäuser Hauptbahnhof Berlin\nSeydlitzstraße 20\, 10557 Berlin \nBei der Tagung werden die nachfolgenden Themen \nAktuelle Fragen der Organtransplantation\nPro & Contra Widerspruchslösung\nOrganspende nach Kreislaufstillstand (DCD) \nvon und mit folgenden Referenten behandelt: \n\n\n\n\n\nProf. Dr. med. Hans Theiss MdB\,\nMünchen/Berlin: \n\n  \nPlädoyer für die Widerspruchslösung bei der Organspende \n\n\n\n\n\n\n\nDr. iur. Rainer Beckmann\nAbteilungsleiter f. d. richterl. Bereitschaftsdienst am Amtsgericht Würzburg: \n\nWiderspruch gegen die Widerspruchslösung \n\n\n\n\n\n\n\nProf. Dr. med. Klaus Hahnenkamp \nSprecher der Sektion „Organspende und Organtransplantation“ der DIVI und Mitglied der Ständigen Kommission Organtransplantation der Bundesärztekammer \n\nPlädoyer für die Einführung der „Spende nach Kreislaufstillstand“ (DCD\, Donation after Cardiac Death/Donation after Circulatory Determination of Death) \n\n\n\n\n\n\n\nProf. Dr. iur. Gunnar Duttge \nDirektor der Abteilung für strafrechtliches Medizin- und Biorecht\, Universität Göttingen \nRechtliche und rechtsethische Implikationen einer Einführung der DCD-Spende in Deutschland \n\n\n\nNach den Referaten findet zwischen den jeweiligen Referenten jeweils ein Streitgespräch statt\, das von Herrn Rechtsanwalt Prof. Dr. Oliver Tolmein moderiert wird. Prof. Tolmein war lange Jahre hauptberuflich als Journalist tätig. Er ist Fachanwalt für Medizinrecht\, Gründungspartner der „Menschen und Rechte – Assoziation freier Rechtsanwält*innen“ und Honorarprofessor an der Universität Göttingen. \nBitte melden Sie sich zu der Tagung via E-Mail an info@jvl-ev.de an. \nProf. Dr. Christian Hillgruber\nVorsitzender der Juristen-Vereinigung Lebensrecht e.V.
URL:https://bundesverband-lebensrecht.de/event/einladung-zur-jahrestagung-der-jvl-am-12-juni-2026/
LOCATION:Berlin\, martas Gästehäuser Hauptbahnhof Berlin Seydlitzstraße 20\, 10557 Berlin
END:VEVENT
END:VCALENDAR